BEGIN:VCALENDAR
VERSION:2.0
PRODID:-//Alabama Primary Health Care Association - ECPv6.2.2.1//NONSGML v1.0//EN
CALSCALE:GREGORIAN
METHOD:PUBLISH
X-WR-CALNAME:Alabama Primary Health Care Association
X-ORIGINAL-URL:https://www.alphca.com
X-WR-CALDESC:Events for Alabama Primary Health Care Association
REFRESH-INTERVAL;VALUE=DURATION:PT1H
X-Robots-Tag:noindex
X-PUBLISHED-TTL:PT1H
BEGIN:VTIMEZONE
TZID:America/New_York
BEGIN:DAYLIGHT
TZOFFSETFROM:-0500
TZOFFSETTO:-0400
TZNAME:EDT
DTSTART:20250309T070000
END:DAYLIGHT
BEGIN:STANDARD
TZOFFSETFROM:-0400
TZOFFSETTO:-0500
TZNAME:EST
DTSTART:20251102T060000
END:STANDARD
END:VTIMEZONE
BEGIN:VEVENT
DTSTART;TZID=America/New_York:20250826T113000
DTEND;TZID=America/New_York:20250826T123000
DTSTAMP:20260425T065724
CREATED:20250120T211826Z
LAST-MODIFIED:20250120T211834Z
UID:62458-1756207800-1756211400@www.alphca.com
SUMMARY:Region IV+ Digital Alliance HIT Policy and Procedure Workshop Series
DESCRIPTION:Location: Live Virtual Training \nDescription: This series offers a unique opportunity for participants to explore policy frameworks\, enforcement strategies\, and compliance requirements like HIPAA. \n			\n				Register Here
URL:https://www.alphca.com/event/region-iv-digital-alliance-hit-policy-and-procedure-workshop-series-8/
END:VEVENT
END:VCALENDAR