BEGIN:VCALENDAR
VERSION:2.0
PRODID:-//Alabama Primary Health Care Association - ECPv6.2.2.1//NONSGML v1.0//EN
CALSCALE:GREGORIAN
METHOD:PUBLISH
X-WR-CALNAME:Alabama Primary Health Care Association
X-ORIGINAL-URL:https://www.alphca.com
X-WR-CALDESC:Events for Alabama Primary Health Care Association
REFRESH-INTERVAL;VALUE=DURATION:PT1H
X-Robots-Tag:noindex
X-PUBLISHED-TTL:PT1H
BEGIN:VTIMEZONE
TZID:America/New_York
BEGIN:DAYLIGHT
TZOFFSETFROM:-0500
TZOFFSETTO:-0400
TZNAME:EDT
DTSTART:20250309T070000
END:DAYLIGHT
BEGIN:STANDARD
TZOFFSETFROM:-0400
TZOFFSETTO:-0500
TZNAME:EST
DTSTART:20251102T060000
END:STANDARD
END:VTIMEZONE
BEGIN:VEVENT
DTSTART;TZID=America/New_York:20250909T120000
DTEND;TZID=America/New_York:20250909T130000
DTSTAMP:20260425T100424
CREATED:20250816T003140Z
LAST-MODIFIED:20250816T003424Z
UID:25544360-1757419200-1757422800@www.alphca.com
SUMMARY:Providers Role in Quality Care
DESCRIPTION:Speaker:  CURIS/Facilitated by APHCA \nLocation: Live Virtual Training \nDescription: Join us for an engaging lunch and learn session exploring the vital role that Community Health Center (CHC) providers play in delivering high-quality\, accessible healthcare to underserved communities. \nIn this session\, we will: \n\nDiscuss how CHC providers contribute to quality improvement initiatives\nExamine key performance metrics and quality strategies\nHighlight real-world examples of provider impact on patient outcomes\n\nWhether you’re a clinician\, administrator\, or quality staff\, this session will offer valuable insights into how providers are key drivers of delivering quality care in an ever-changing healthcare environment. \n			\n				REGISTER HERE
URL:https://www.alphca.com/event/providers-role-in-quality-care/
LOCATION:Live Virtual Training
END:VEVENT
END:VCALENDAR