BEGIN:VCALENDAR
VERSION:2.0
PRODID:-//Alabama Primary Health Care Association - ECPv6.2.2.1//NONSGML v1.0//EN
CALSCALE:GREGORIAN
METHOD:PUBLISH
X-ORIGINAL-URL:https://www.alphca.com
X-WR-CALDESC:Events for Alabama Primary Health Care Association
REFRESH-INTERVAL;VALUE=DURATION:PT1H
X-Robots-Tag:noindex
X-PUBLISHED-TTL:PT1H
BEGIN:VTIMEZONE
TZID:America/New_York
BEGIN:DAYLIGHT
TZOFFSETFROM:-0500
TZOFFSETTO:-0400
TZNAME:EDT
DTSTART:20260308T070000
END:DAYLIGHT
BEGIN:STANDARD
TZOFFSETFROM:-0400
TZOFFSETTO:-0500
TZNAME:EST
DTSTART:20261101T060000
END:STANDARD
END:VTIMEZONE
BEGIN:VEVENT
DTSTART;TZID=America/New_York:20260806T120000
DTEND;TZID=America/New_York:20260806T133000
DTSTAMP:20260424T110623
CREATED:20251216T225444Z
LAST-MODIFIED:20260206T180912Z
UID:25544519-1786017600-1786023000@www.alphca.com
SUMMARY:Clinical Committee- August
DESCRIPTION:Location: Live Virtual Training \nSpeaker: APHCA Quality Team \nAudience: The Clinical Committee is comprised of Health Center Chief Medical Officers and Clinical Directors whose purpose is to build the CIN into a High-Reliability Organization. \nDescription: The Committee will work together to lead and coordinate Network performance improvement efforts using innovative transformation. 
URL:https://www.alphca.com/event/clinical-committee-august/
LOCATION:Live Virtual Training
END:VEVENT
END:VCALENDAR